BEGIN:VCALENDAR
VERSION:2.0
PRODID:-//ChamberMaster//Event Calendar 2.0//EN
METHOD:PUBLISH
X-PUBLISHED-TTL:P1H
REFRESH-INTERVAL:P1H
CALSCALE:GREGORIAN
BEGIN:VTIMEZONE
TZID:America/New_York
BEGIN:DAYLIGHT
RRULE:FREQ=YEARLY;BYMONTH=3;BYDAY=2SU
DTSTART:20070101T000000
TZOFFSETFROM:-0500
TZOFFSETTO:-0400
TZNAME:Eastern Daylight Time
END:DAYLIGHT
BEGIN:STANDARD
RRULE:FREQ=YEARLY;BYMONTH=11;BYDAY=1SU
DTSTART:20070101T000000
TZOFFSETFROM:-0400
TZOFFSETTO:-0500
TZNAME:Eastern Standard Time
END:STANDARD
END:VTIMEZONE
BEGIN:VEVENT
DTSTART;TZID=America/New_York:20260513T090000
DTEND;TZID=America/New_York:20260513T110000
X-MICROSOFT-CDO-ALLDAYEVENT:FALSE
SUMMARY:CRS Enhancing Customer Service through Public Tax Records May 13\, 2026 9:00am
DESCRIPTION:Courthouse Retrieval System  - Overview of the Tax Record System and enhancements.\n2CEU Elective Credits (FREE).  Note:  If you have taken this class within the last year (2025) you have already received 2CEU Credits.
X-ALT-DESC;FMTTYPE=text/html:Courthouse Retrieval System  - Overview of the Tax Record System and enhancements.\n2CEU Elective Credits (FREE).  Note:  If you have taken this class within the last year (2025) you have already received 2CEU Credits.
LOCATION:1375 Celebration Blvd Florence SC 29501
UID:e.1750.1444134
SEQUENCE:3
DTSTAMP:20260420T112737Z
URL:https://members.peedeerealtors.com/events/Details/crs-enhancing-customer-service-through-public-tax-records-may-13-2026-9-00am-1710444?sourceTypeId=Hub
END:VEVENT
END:VCALENDAR
