BEGIN:VCALENDAR
VERSION:2.0
PRODID:-//ChamberMaster//Event Calendar 2.0//EN
METHOD:PUBLISH
X-PUBLISHED-TTL:P1H
REFRESH-INTERVAL:P1H
CALSCALE:GREGORIAN
BEGIN:VTIMEZONE
TZID:America/New_York
BEGIN:DAYLIGHT
RRULE:FREQ=YEARLY;BYMONTH=3;BYDAY=2SU
DTSTART:20070101T000000
TZOFFSETFROM:-0500
TZOFFSETTO:-0400
TZNAME:Eastern Daylight Time
END:DAYLIGHT
BEGIN:STANDARD
RRULE:FREQ=YEARLY;BYMONTH=11;BYDAY=1SU
DTSTART:20070101T000000
TZOFFSETFROM:-0400
TZOFFSETTO:-0500
TZNAME:Eastern Standard Time
END:STANDARD
END:VTIMEZONE
BEGIN:VEVENT
DTSTART;TZID=America/New_York:20260918T110000
DTEND;TZID=America/New_York:20260918T123000
X-MICROSOFT-CDO-ALLDAYEVENT:FALSE
SUMMARY:Fire Prevention Lunch & Learn
DESCRIPTION:Learn what every agent/citizen should know about Fire Prevention with\nChris Johnson CFM/CBO\nFire Marshal/Building Official/PIO\nFire/Building Department | City of Florence\, SC
X-ALT-DESC;FMTTYPE=text/html:Learn what every agent/citizen should know about Fire Prevention with\nChris Johnson CFM/CBO\nFire Marshal/Building Official/PIO\nFire/Building Department | City of Florence\, SC
LOCATION:1375 Celebration Blvd. Florence SC 29501
UID:e.1750.1443547
SEQUENCE:3
DTSTAMP:20260420T112715Z
URL:https://members.peedeerealtors.com/events/Details/fire-prevention-lunch-learn-1709780?sourceTypeId=Hub
END:VEVENT
END:VCALENDAR
