BEGIN:VCALENDAR
VERSION:2.0
PRODID:-//ChamberMaster//Event Calendar 2.0//EN
METHOD:PUBLISH
X-PUBLISHED-TTL:P1H
REFRESH-INTERVAL:P1H
CALSCALE:GREGORIAN
BEGIN:VTIMEZONE
TZID:America/New_York
BEGIN:DAYLIGHT
RRULE:FREQ=YEARLY;BYMONTH=3;BYDAY=2SU
DTSTART:20070101T000000
TZOFFSETFROM:-0500
TZOFFSETTO:-0400
TZNAME:Eastern Daylight Time
END:DAYLIGHT
BEGIN:STANDARD
RRULE:FREQ=YEARLY;BYMONTH=11;BYDAY=1SU
DTSTART:20070101T000000
TZOFFSETFROM:-0400
TZOFFSETTO:-0500
TZNAME:Eastern Standard Time
END:STANDARD
END:VTIMEZONE
BEGIN:VEVENT
DTSTART;TZID=America/New_York:20260409T140000
DTEND;TZID=America/New_York:20260409T160000
X-MICROSOFT-CDO-ALLDAYEVENT:FALSE
SUMMARY:Paragon Basics II Class [April 9\, 2026 2:00pm - April 9\, 2026 4:00pm]
DESCRIPTION:An in depth look at the Paragon MLS System for new agents or a refresher for seasoned agents.
X-ALT-DESC;FMTTYPE=text/html:An in depth look at the Paragon MLS System for new agents or a refresher for seasoned agents.
LOCATION:1375 Celebration Blvd. Florence SC 29501
UID:e.1750.1419898
SEQUENCE:3
DTSTAMP:20260420T112440Z
URL:https://members.peedeerealtors.com/events/Details/paragon-basics-ii-class-april-9-2026-2-00pm-april-9-2026-4-00pm-1678347?sourceTypeId=Hub
END:VEVENT
END:VCALENDAR
